BEGIN:VCALENDAR
VERSION:2.0
PRODID:-//Southern California Junior Forensics League - ECPv6.6.3//NONSGML v1.0//EN
CALSCALE:GREGORIAN
METHOD:PUBLISH
X-ORIGINAL-URL:http://scjfl.org
X-WR-CALDESC:Events for Southern California Junior Forensics League
REFRESH-INTERVAL;VALUE=DURATION:PT1H
X-Robots-Tag:noindex
X-PUBLISHED-TTL:PT1H
BEGIN:VTIMEZONE
TZID:America/Los_Angeles
BEGIN:DAYLIGHT
TZOFFSETFROM:-0800
TZOFFSETTO:-0700
TZNAME:PDT
DTSTART:20220313T100000
END:DAYLIGHT
BEGIN:STANDARD
TZOFFSETFROM:-0700
TZOFFSETTO:-0800
TZNAME:PST
DTSTART:20221106T090000
END:STANDARD
BEGIN:DAYLIGHT
TZOFFSETFROM:-0800
TZOFFSETTO:-0700
TZNAME:PDT
DTSTART:20230312T100000
END:DAYLIGHT
BEGIN:STANDARD
TZOFFSETFROM:-0700
TZOFFSETTO:-0800
TZNAME:PST
DTSTART:20231105T090000
END:STANDARD
BEGIN:DAYLIGHT
TZOFFSETFROM:-0800
TZOFFSETTO:-0700
TZNAME:PDT
DTSTART:20240310T100000
END:DAYLIGHT
BEGIN:STANDARD
TZOFFSETFROM:-0700
TZOFFSETTO:-0800
TZNAME:PST
DTSTART:20241103T090000
END:STANDARD
END:VTIMEZONE
BEGIN:VEVENT
DTSTART;VALUE=DATE:20240504
DTEND;VALUE=DATE:20240505
DTSTAMP:20260424T132259
CREATED:20230626T105249Z
LAST-MODIFIED:20230627T181337Z
UID:1157-1714780800-1714867199@scjfl.org
SUMMARY:SoCal Champs - May 4-5\, 2024
DESCRIPTION:Speech:\nInformative\nPersuasive\nSpeech to Entertain\nImpromptu\nExtemp\nSPAR\nStorytelling\nDuo\nProse\nPoetry\nDI\nHI\nPOI\nDeclamation\nDebate:\nPublic Forum\nLincoln Douglas\nCongress\nWorlds\nBig Questions\nPolicy
URL:http://scjfl.org/event/socal-champs/
LOCATION:East Los Angeles College\, 1301 Avenida Cesar Chavez\, Monterey Park\, CA\, 91754\, United States
CATEGORIES:Debate Tournaments,In-person,So-Cal Champs,Speech Tournaments
END:VEVENT
BEGIN:VEVENT
DTSTART;TZID=America/Los_Angeles:20220508T080000
DTEND;TZID=America/Los_Angeles:20220508T190000
DTSTAMP:20260424T132259
CREATED:20190829T152055Z
LAST-MODIFIED:20220220T025454Z
UID:704-1651996800-1652036400@scjfl.org
SUMMARY:Southern California Champs
DESCRIPTION:EVENTS \n\nPublic Forum\nLincoln-Douglas\nPolicy\nCongress\nBig Questions\nSPAR\nProse\nHumorous Interp\nOO/Persuasive\nDuo\nImpromptu\nDramatic Interp\nDeclamation\nPoetry\nStorytelling\nInformative\nPOI\nExtemp\n\nPlease refer to the By-laws for rules.
URL:http://scjfl.org/event/southern-california-champs-2020-05-02/
LOCATION:Online\, CA\, United States
CATEGORIES:So-Cal Champs
ORGANIZER;CN="Robert Cannon":MAILTO:Robert@cannonballofdeath.com
END:VEVENT
BEGIN:VEVENT
DTSTART;TZID=America/Los_Angeles:20220507T080000
DTEND;TZID=America/Los_Angeles:20220507T190000
DTSTAMP:20260424T132259
CREATED:20190829T152055Z
LAST-MODIFIED:20220220T025425Z
UID:702-1651910400-1651950000@scjfl.org
SUMMARY:Southern California Champs
DESCRIPTION:EVENTS \n\nPublic Forum\nLincoln-Douglas\nPolicy\nCongress\nBig Questions\nSPAR\nProse\nHumorous Interp\nOO/Persuasive\nDuo\nImpromptu\nDramatic Interp\nDeclamation\nPoetry\nStorytelling\nInformative\nPOI\nExtemp\n\nPlease refer to the By-laws for rules.
URL:http://scjfl.org/event/southern-california-champs/
LOCATION:Online\, CA\, United States
CATEGORIES:So-Cal Champs
ORGANIZER;CN="Robert Cannon":MAILTO:Robert@cannonballofdeath.com
END:VEVENT
END:VCALENDAR