BEGIN:VCALENDAR
VERSION:2.0
PRODID:-//Southern California Junior Forensics League - ECPv6.6.3//NONSGML v1.0//EN
CALSCALE:GREGORIAN
METHOD:PUBLISH
X-WR-CALNAME:Southern California Junior Forensics League
X-ORIGINAL-URL:http://scjfl.org
X-WR-CALDESC:Events for Southern California Junior Forensics League
REFRESH-INTERVAL;VALUE=DURATION:PT1H
X-Robots-Tag:noindex
X-PUBLISHED-TTL:PT1H
BEGIN:VTIMEZONE
TZID:America/Los_Angeles
BEGIN:DAYLIGHT
TZOFFSETFROM:-0800
TZOFFSETTO:-0700
TZNAME:PDT
DTSTART:20220313T100000
END:DAYLIGHT
BEGIN:STANDARD
TZOFFSETFROM:-0700
TZOFFSETTO:-0800
TZNAME:PST
DTSTART:20221106T090000
END:STANDARD
END:VTIMEZONE
BEGIN:VEVENT
DTSTART;TZID=America/Los_Angeles:20221216T160000
DTEND;TZID=America/Los_Angeles:20221216T220000
DTSTAMP:20260424T162354
CREATED:20220709T183407Z
LAST-MODIFIED:20220709T183407Z
UID:1040-1671206400-1671228000@scjfl.org
SUMMARY:SCJFL Elementary Tournament Online
DESCRIPTION:Events offered: Congress\, Public Forum\, Worlds\, SPAR\, Storytelling\, Prose\, Poetry\, Duo\, Declamation\, Impromptu\, Informative\, Persuasive
URL:http://scjfl.org/event/scjfl-elementary-tournament-online/
LOCATION:Online\, CA\, United States
CATEGORIES:Debate Tournaments,Online,SCJFL Elementary Tournaments,Speech Tournaments
END:VEVENT
BEGIN:VEVENT
DTSTART;TZID=America/Los_Angeles:20221210T080000
DTEND;TZID=America/Los_Angeles:20221210T190000
DTSTAMP:20260424T162354
CREATED:20220709T151639Z
LAST-MODIFIED:20220709T175104Z
UID:1003-1670659200-1670698800@scjfl.org
SUMMARY:SCJFL Middle School Debate Tournament Online
DESCRIPTION:Events Offered: Public Forum\, Congress\, LD\, Policy\, Big Questions\, Worlds
URL:http://scjfl.org/event/scjfl-middle-school-debate-tournament-online-2/
LOCATION:Online\, CA\, United States
CATEGORIES:Debate Tournaments,Online,SCJFL Middle School Tournaments
END:VEVENT
BEGIN:VEVENT
DTSTART;TZID=America/Los_Angeles:20221111T160000
DTEND;TZID=America/Los_Angeles:20221111T220000
DTSTAMP:20260424T162354
CREATED:20220709T150222Z
LAST-MODIFIED:20220709T164155Z
UID:994-1668182400-1668204000@scjfl.org
SUMMARY:SCJFL Middle School Speech Tournament Online
DESCRIPTION:Events offered: Impromptu\, Duo\, Informative\, Storytelling\, SPAR\, Prose Persuasive\, Humorous Interp\, Declamation\, Original Interp
URL:http://scjfl.org/event/scjfl-middle-school-speech-tournament-online/
LOCATION:Online\, CA\, United States
CATEGORIES:Online,SCJFL Middle School Tournaments,Speech Tournaments
END:VEVENT
BEGIN:VEVENT
DTSTART;TZID=America/Los_Angeles:20221022T080000
DTEND;TZID=America/Los_Angeles:20221022T190000
DTSTAMP:20260424T162354
CREATED:20220709T151528Z
LAST-MODIFIED:20220709T164208Z
UID:1001-1666425600-1666465200@scjfl.org
SUMMARY:SCJFL Middle School Debate Tournament Online
DESCRIPTION:Events Offered: Public Forum\, Congress\, LD\, Policy\, Big Questions\, Worlds
URL:http://scjfl.org/event/scjfl-middle-school-debate-tournament-online/
LOCATION:Online\, CA\, United States
CATEGORIES:Debate Tournaments,Online,SCJFL Middle School Tournaments
END:VEVENT
END:VCALENDAR