BEGIN:VCALENDAR
VERSION:2.0
PRODID:-//Southern California Junior Forensics League - ECPv6.6.3//NONSGML v1.0//EN
CALSCALE:GREGORIAN
METHOD:PUBLISH
X-ORIGINAL-URL:http://scjfl.org
X-WR-CALDESC:Events for Southern California Junior Forensics League
REFRESH-INTERVAL;VALUE=DURATION:PT1H
X-Robots-Tag:noindex
X-PUBLISHED-TTL:PT1H
BEGIN:VTIMEZONE
TZID:America/Los_Angeles
BEGIN:DAYLIGHT
TZOFFSETFROM:-0800
TZOFFSETTO:-0700
TZNAME:PDT
DTSTART:20220313T100000
END:DAYLIGHT
BEGIN:STANDARD
TZOFFSETFROM:-0700
TZOFFSETTO:-0800
TZNAME:PST
DTSTART:20221106T090000
END:STANDARD
BEGIN:DAYLIGHT
TZOFFSETFROM:-0800
TZOFFSETTO:-0700
TZNAME:PDT
DTSTART:20230312T100000
END:DAYLIGHT
BEGIN:STANDARD
TZOFFSETFROM:-0700
TZOFFSETTO:-0800
TZNAME:PST
DTSTART:20231105T090000
END:STANDARD
END:VTIMEZONE
BEGIN:VEVENT
DTSTART;TZID=America/Los_Angeles:20230204T080000
DTEND;TZID=America/Los_Angeles:20230204T190000
DTSTAMP:20260424T150439
CREATED:20220709T183301Z
LAST-MODIFIED:20220709T183301Z
UID:1037-1675497600-1675537200@scjfl.org
SUMMARY:SCJFL Elementary Tournament In-person
DESCRIPTION:Events offered: Congress\, Public Forum\, Worlds\, SPAR\, Storytelling\, Prose\, Poetry\, Duo\, Declamation\, Impromptu\, Informative\, Persuasive
URL:http://scjfl.org/event/scjfl-elementary-tournament-in-person-3/
LOCATION:Roosevelt Elementary School\, 401 Walnut Grove Ave.\, San Gabriel\, CA\, 91776\, United States
CATEGORIES:Debate Tournaments,In-person,SCJFL Elementary Tournaments,Speech Tournaments
END:VEVENT
BEGIN:VEVENT
DTSTART;TZID=America/Los_Angeles:20221203T080000
DTEND;TZID=America/Los_Angeles:20221203T190000
DTSTAMP:20260424T150439
CREATED:20220709T183122Z
LAST-MODIFIED:20220709T183202Z
UID:1035-1670054400-1670094000@scjfl.org
SUMMARY:SCJFL Elementary Tournament In-person
DESCRIPTION:Events offered: Congress\, Public Forum\, Worlds\, SPAR\, Storytelling\, Prose\, Poetry\, Duo\, Declamation\, Impromptu\, Informative\, Persuasive
URL:http://scjfl.org/event/scjfl-elementary-tournament-in-person-2/
LOCATION:Roosevelt Elementary School\, 401 Walnut Grove Ave.\, San Gabriel\, CA\, 91776\, United States
CATEGORIES:Debate Tournaments,In-person,SCJFL Elementary Tournaments,Speech Tournaments
END:VEVENT
BEGIN:VEVENT
DTSTART;TZID=America/Los_Angeles:20221202T160000
DTEND;TZID=America/Los_Angeles:20221202T220000
DTSTAMP:20260424T150439
CREATED:20220709T150949Z
LAST-MODIFIED:20220914T234603Z
UID:999-1669996800-1670018400@scjfl.org
SUMMARY:SCJFL Middle School Speech Tournament In-person
DESCRIPTION:Events offered: Impromptu\, Duo\, Informative\, Storytelling\, SPAR\, Poetry\, Speech to Entertain\, Dramatic Interp\, Extemp\, Sightreading
URL:http://scjfl.org/event/scjfl-middle-school-speech-tournament-in-person/
LOCATION:Walter Reed Middle School\, 4525 Irvine Avenue\, North Hollywood\, CA\, 91602\, United States
CATEGORIES:In-person,SCJFL Middle School Tournaments,Speech Tournaments
END:VEVENT
BEGIN:VEVENT
DTSTART;TZID=America/Los_Angeles:20221021T040000
DTEND;TZID=America/Los_Angeles:20221021T220000
DTSTAMP:20260424T150439
CREATED:20220709T145322Z
LAST-MODIFIED:20220709T164215Z
UID:991-1666324800-1666389600@scjfl.org
SUMMARY:SCJFL Middle School Speech Tournament In-Person
DESCRIPTION:Events offered: Impromptu\, Duo\, Informative\, Storytelling\, SPAR\, Prose Persuasive\, Humorous Interp\, Declamation\, Original Interp
URL:http://scjfl.org/event/scjfl-middle-school-speech-tournament/
LOCATION:Jefferson Middle School\, 1372 E Las Tunas Drive\, San Gabriel\, CA\, 91776\, United States
CATEGORIES:In-person,SCJFL Middle School Tournaments,Speech Tournaments
END:VEVENT
END:VCALENDAR