BEGIN:VCALENDAR
VERSION:2.0
PRODID:-//Southern California Junior Forensics League - ECPv6.6.3//NONSGML v1.0//EN
CALSCALE:GREGORIAN
METHOD:PUBLISH
X-ORIGINAL-URL:http://scjfl.org
X-WR-CALDESC:Events for Southern California Junior Forensics League
REFRESH-INTERVAL;VALUE=DURATION:PT1H
X-Robots-Tag:noindex
X-PUBLISHED-TTL:PT1H
BEGIN:VTIMEZONE
TZID:America/Los_Angeles
BEGIN:DAYLIGHT
TZOFFSETFROM:-0800
TZOFFSETTO:-0700
TZNAME:PDT
DTSTART:20220313T100000
END:DAYLIGHT
BEGIN:STANDARD
TZOFFSETFROM:-0700
TZOFFSETTO:-0800
TZNAME:PST
DTSTART:20221106T090000
END:STANDARD
BEGIN:DAYLIGHT
TZOFFSETFROM:-0800
TZOFFSETTO:-0700
TZNAME:PDT
DTSTART:20230312T100000
END:DAYLIGHT
BEGIN:STANDARD
TZOFFSETFROM:-0700
TZOFFSETTO:-0800
TZNAME:PST
DTSTART:20231105T090000
END:STANDARD
BEGIN:DAYLIGHT
TZOFFSETFROM:-0800
TZOFFSETTO:-0700
TZNAME:PDT
DTSTART:20240310T100000
END:DAYLIGHT
BEGIN:STANDARD
TZOFFSETFROM:-0700
TZOFFSETTO:-0800
TZNAME:PST
DTSTART:20241103T090000
END:STANDARD
END:VTIMEZONE
BEGIN:VEVENT
DTSTART;VALUE=DATE:20240517
DTEND;VALUE=DATE:20240518
DTSTAMP:20260424T143958
CREATED:20230626T113039Z
LAST-MODIFIED:20230627T130819Z
UID:1162-1715904000-1715990399@scjfl.org
SUMMARY:CMSF State - May 17-19\, 2024
DESCRIPTION:Speech:\nInformative\nPersuasive\nSpeech to Entertain\nImpromptu\nExtemp\nSPAR\nStorytelling\nDuo\nProse\nPoetry\nDI\nHI\nPOI\nDeclamation\nDebate:\nPublic Forum\nLincoln Douglas\nCongress\nWorlds\nBig Questions\nPolicy
URL:http://scjfl.org/event/cmsf-state-may-17-19-2024/
LOCATION:Location TBA
CATEGORIES:CMSF
END:VEVENT
BEGIN:VEVENT
DTSTART;TZID=America/Los_Angeles:20220522T080000
DTEND;TZID=America/Los_Angeles:20220522T190000
DTSTAMP:20260424T143958
CREATED:20190829T152839Z
LAST-MODIFIED:20220220T025625Z
UID:717-1653206400-1653246000@scjfl.org
SUMMARY:CMSF State Championship
DESCRIPTION:EVENTS \n\nPublic Forum\nLincoln-Douglas\nPolicy\nCongress\nBig Questions\nSPAR\nProse\nHumorous Interp\nOO/Persuasive\nDuo\nImpromptu\nDramatic Interp\nDeclamation\nPoetry\nStorytelling\nInformative\nPOI\nExtemp\n\nPlease refer to the By-laws for rules.
URL:http://scjfl.org/event/cmsf-state-tournament-2020-05-17/
LOCATION:Online\, CA\, United States
CATEGORIES:CMSF
END:VEVENT
BEGIN:VEVENT
DTSTART;TZID=America/Los_Angeles:20220521T080000
DTEND;TZID=America/Los_Angeles:20220521T190000
DTSTAMP:20260424T143958
CREATED:20190829T152839Z
LAST-MODIFIED:20220220T025555Z
UID:716-1653120000-1653159600@scjfl.org
SUMMARY:CMSF State Championship
DESCRIPTION:EVENTS \n\nPublic Forum\nLincoln-Douglas\nPolicy\nCongress\nBig Questions\nSPAR\nProse\nHumorous Interp\nOO/Persuasive\nDuo\nImpromptu\nDramatic Interp\nDeclamation\nPoetry\nStorytelling\nInformative\nPOI\nExtemp\n\nPlease refer to the By-laws for rules.
URL:http://scjfl.org/event/cmsf-state-tournament-2020-05-16/
LOCATION:Online\, CA\, United States
CATEGORIES:CMSF
END:VEVENT
BEGIN:VEVENT
DTSTART;TZID=America/Los_Angeles:20220520T080000
DTEND;TZID=America/Los_Angeles:20220520T190000
DTSTAMP:20260424T143958
CREATED:20190829T152839Z
LAST-MODIFIED:20220220T025526Z
UID:712-1653033600-1653073200@scjfl.org
SUMMARY:CMSF State Championship
DESCRIPTION:EVENTS \n\nPublic Forum\nLincoln-Douglas\nPolicy\nCongress\nBig Questions\nSPAR\nProse\nHumorous Interp\nOO/Persuasive\nDuo\nImpromptu\nDramatic Interp\nDeclamation\nPoetry\nStorytelling\nInformative\nPOI\nExtemp\n\nPlease refer to the By-laws for rules.
URL:http://scjfl.org/event/cmsf-state-tournament/
LOCATION:Online\, CA\, United States
CATEGORIES:CMSF
END:VEVENT
END:VCALENDAR